BEGIN:VCALENDAR
VERSION:2.0
PRODID:-//株式会社TAROHORO - ECPv6.15.20//NONSGML v1.0//EN
CALSCALE:GREGORIAN
METHOD:PUBLISH
X-WR-CALNAME:株式会社TAROHORO
X-ORIGINAL-URL:https://tarohoro-jp.com
X-WR-CALDESC:Wydarzenia dla 株式会社TAROHORO
REFRESH-INTERVAL;VALUE=DURATION:PT1H
X-Robots-Tag:noindex
X-PUBLISHED-TTL:PT1H
BEGIN:VTIMEZONE
TZID:Asia/Tokyo
BEGIN:STANDARD
TZOFFSETFROM:+0900
TZOFFSETTO:+0900
TZNAME:JST
DTSTART:20220101T000000
END:STANDARD
END:VTIMEZONE
BEGIN:VEVENT
DTSTART;TZID=Asia/Tokyo:20231230T180000
DTEND;TZID=Asia/Tokyo:20331231T020000
DTSTAMP:20260423T205145
CREATED:20210817T014916Z
LAST-MODIFIED:20230906T005749Z
UID:17797-1703959200-2019607200@tarohoro-jp.com
SUMMARY:Polish Night 3
DESCRIPTION:Soon…
URL:https://tarohoro-jp.com/event/whisky-country-tour/
LOCATION:tokyo
CATEGORIES:Polish Night
END:VEVENT
END:VCALENDAR